BEGIN:VCALENDAR
VERSION:2.0
PRODID:https://github.com/derhansen/sf_event_mgt
METHOD:PUBLISH
BEGIN:VEVENT
UID:479-24@www.keh-berlin.de
CLASS: PUBLIC
SUMMARY:Weiterbildungsprogramm für Inklusive Pflege
DESCRIPTION:Auftaktveranstaltung zum Weiterbildungsprogramm für Inklusive P
 flege\n\nDie Pflege von Menschen mit kognitiven Beeinträchtigungen gehört z
 u den anspruchsvollsten Aufgaben im Gesundheitswesen. Sowohl Barrieren in d
 er Kommunikation als auch herausforderndes Verhalten der Patientinnen und P
 atienten erfordern fundiertes Spezialwissen im Umgang mit dieser Zielgruppe
 .\n\nUnser Pflegeweiterbildungsprogramm vermittelt tiefgehende Einblicke in
  die sozio-emotionale Entwicklung bei Menschen mit kognitiver Beeinträchtig
 ung sowie in die dazugehörige Diagnostik. Dabei wird die Vielfalt und Diver
 sität komplexer Behinderungen innerhalb verschiedener Altersgruppen verdeut
 licht.\n\nEin besonderer Schwerpunkt liegt auf den häufigsten Krankheitsbil
 dern aus den Fachbereichen Chirurgie, Innere Medizin, Psychiatrie und Neuro
 logie. Hierbei werden die spezifischen Besonderheiten in Therapie und Diagn
 ostik aus pflegerischer Sicht beleuchtet. Zudem werden praxisrelevante Them
 enbereiche wie die bedürfnisorientierte Körperpflege behandelt. Abgerundet 
 und abgeschlossen wird das Programm durch eine begleitete Hospitation, die 
 den Transfer des Erlernten in den Berufsalltag sicherstellt.\n\nWeitere Inf
 ormationen folgen.\n\nWeitere Informationen zur Veranstaltung finden Sie un
 ter www.keh-berlin.de
DTSTAMP:20260416T144257Z
DTSTART:20270409T070000Z
DTEND:20270409T140000Z
END:VEVENT
END:VCALENDAR