BEGIN:VCALENDAR
VERSION:2.0
PRODID:https://github.com/derhansen/sf_event_mgt
METHOD:PUBLISH
BEGIN:VEVENT
UID:476-24@www.keh-berlin.de
CLASS: PUBLIC
SUMMARY:Veranstaltungsreihe: Gastroenterologie zwischen Klinik und Praxis
DESCRIPTION:9. Gemeinsame Veranstaltung mit der Praxis für Gastroenterologi
 e Dr. Andreas Horn für niedergelassene Ärztinnen und Ärzte\n\nDie Veranstal
 tung sieht »Die Leber im Fokus«. \n\nProgramm\n\nWeitere Informationen zur 
 Veranstaltung finden Sie unter www.keh-berlin.de
DTSTAMP:20260422T073226Z
DTSTART:20260512T160000Z
DTEND:20260512T173000Z
END:VEVENT
END:VCALENDAR