BEGIN:VCALENDAR
VERSION:2.0
PRODID:https://github.com/derhansen/sf_event_mgt
METHOD:PUBLISH
BEGIN:VEVENT
UID:447-24@www.keh-berlin.de
CLASS: PUBLIC
SUMMARY:Orgelkonzert im September
DESCRIPTION:Mit Ralph Fischer\n\nWeitere Informationen zur Veranstaltung fi
 nden Sie unter www.keh-berlin.de
DTSTAMP:20251114T110157Z
DTSTART:20260901T140000Z
DTEND:20260901T150000Z
END:VEVENT
END:VCALENDAR