BEGIN:VCALENDAR
VERSION:2.0
PRODID:https://github.com/derhansen/sf_event_mgt
METHOD:PUBLISH
BEGIN:VEVENT
UID:440-24@www.keh-berlin.de
CLASS: PUBLIC
SUMMARY:Orgelkonzert im Dezember
DESCRIPTION:Mit Joachim Vetter\n\nWeitere Informationen zur Veranstaltung f
 inden Sie unter www.keh-berlin.de
DTSTAMP:20260126T090257Z
DTSTART:20261201T150000Z
DTEND:20261201T160000Z
END:VEVENT
END:VCALENDAR