BEGIN:VCALENDAR
VERSION:2.0
PRODID:https://github.com/derhansen/sf_event_mgt
METHOD:PUBLISH
BEGIN:VEVENT
UID:449-24@www.keh-berlin.de
CLASS: PUBLIC
SUMMARY:Orgelkonzert im November
DESCRIPTION:Mit Hartmut Angermüller und Steve Hertel\n\nWeitere Information
 en zur Veranstaltung finden Sie unter www.keh-berlin.de
DTSTAMP:20251114T122914Z
DTSTART:20261103T150000Z
DTEND:20261103T160000Z
END:VEVENT
END:VCALENDAR