BEGIN:VCALENDAR
VERSION:2.0
PRODID:https://github.com/derhansen/sf_event_mgt
METHOD:PUBLISH
BEGIN:VEVENT
UID:446-24@www.keh-berlin.de
CLASS: PUBLIC
SUMMARY:Orgelkonzert im August
DESCRIPTION:Mit Andreas Wenske\n\nWeitere Informationen zur Veranstaltung f
 inden Sie unter www.keh-berlin.de
DTSTAMP:20251114T110100Z
DTSTART:20260804T140000Z
DTEND:20260804T150000Z
END:VEVENT
END:VCALENDAR