BEGIN:VCALENDAR
VERSION:2.0
PRODID:https://github.com/derhansen/sf_event_mgt
METHOD:PUBLISH
BEGIN:VEVENT
UID:465-24@www.keh-berlin.de
CLASS: PUBLIC
SUMMARY:Montagsvisite | Behandlung der verengten Halsschlagader (Karotisstenose): Eine interdisziplinäre Aufgabe
DESCRIPTION:Informationsveranstaltung für Patientinnen und Patienten sowie 
 Interessierte\n\nDas Thema dieser Montagsvisite:Behandlung der verengten Ha
 lsschlagader (Karotisstenose): Eine interdisziplinäre Aufgabe\n\nPriv.-Doz.
  Dr. Ralph-Ingo Rückert, Chefarzt für GefäßchirurgieDr. Karl-Julius Büchner
 , Leiter für Interventionelle GefäßmedizinDr. Falko Kaufhold, Oberarzt für 
 Neurologie\n\nDer Veranstaltungsort ist barrierefrei zu erreichen.\n\nKurzf
 ristige Termin- und Themenänderungen vorbehalten.\n\nWeitere Informationen 
 zur Veranstaltung finden Sie unter www.keh-berlin.de
DTSTAMP:20251202T150836Z
DTSTART:20260511T160000Z
DTEND:20260511T170000Z
END:VEVENT
END:VCALENDAR