BEGIN:VCALENDAR
VERSION:2.0
PRODID:https://github.com/derhansen/sf_event_mgt
METHOD:PUBLISH
BEGIN:VEVENT
UID:457-24@www.keh-berlin.de
CLASS: PUBLIC
SUMMARY:Berlin-Brandenburger Epilepsie-Kolloquium (9/2026)
DESCRIPTION:Autoimmune Anfälle und EpilepsienVortrag von Anna RadaKrankenha
 us Mara – Epilepsie-Zentrum Bethel\n\nDie Veranstaltung ist durch die Ärzte
 kammer Berlin mit 2 Fortbildungspunkten und durch die Deutsche Gesellschaft
  für Epileptologie mit 1 Punkt zertifiziert.\n\nWissenschaftliche Leitung u
 nd OrganisationProf. Dr. Martin HoltkampProf. Dr. Bettina SchmitzProf. Dr. 
 Hans-Beatus Straub\n\nEinladung und Programm\n\nWeitere Informationen zur V
 eranstaltung finden Sie unter www.keh-berlin.de
DTSTAMP:20251118T131035Z
DTSTART:20260916T153000Z
DTEND:20260916T170000Z
END:VEVENT
END:VCALENDAR