BEGIN:VCALENDAR
VERSION:2.0
PRODID:https://github.com/derhansen/sf_event_mgt
METHOD:PUBLISH
BEGIN:VEVENT
UID:450-24@www.keh-berlin.de
CLASS: PUBLIC
SUMMARY:Berlin-Brandenburger Epilepsie-Kolloquium (12/2026)
DESCRIPTION:Geschichte der Epileptologie in BerlinVortrag von Burkhard Kasp
 erEpilepsiezentrum – Universitätsklinikum Erlangen\n\nDie Veranstaltung ist
  durch die Ärztekammer Berlin mit 2 Fortbildungspunkten und durch die Deuts
 che Gesellschaft für Epileptologie mit 1 Punkt zertifiziert.\n\nWissenschaf
 tliche Leitung und OrganisationProf. Dr. Martin HoltkampProf. Dr. Bettina S
 chmitzProf. Dr. Hans-Beatus Straub\n\nEinladung und Programm\n\nWeitere Inf
 ormationen zur Veranstaltung finden Sie unter www.keh-berlin.de
DTSTAMP:20251118T133945Z
DTSTART:20261216T163000Z
DTEND:20261216T180000Z
END:VEVENT
END:VCALENDAR