BEGIN:VCALENDAR
VERSION:2.0
PRODID:https://github.com/derhansen/sf_event_mgt
METHOD:PUBLISH
BEGIN:VEVENT
UID:459-24@www.keh-berlin.de
CLASS: PUBLIC
SUMMARY:Berlin-Brandenburger Epilepsie-Kolloquium (11/2026)
DESCRIPTION:Neue Anfallssuppressiva im PraxistestVortrag von Felix von Pode
 wilsEpilepsiezentrum – Universitätsmedizin Greifswald\n\nDie Veranstaltung 
 ist durch die Ärztekammer Berlin mit 2 Fortbildungspunkten und durch die De
 utsche Gesellschaft für Epileptologie mit 1 Punkt zertifiziert.\n\nWissensc
 haftliche Leitung und OrganisationProf. Dr. Martin HoltkampProf. Dr. Bettin
 a SchmitzProf. Dr. Hans-Beatus Straub\n\nEinladung und Programm\n\nWeitere 
 Informationen zur Veranstaltung finden Sie unter www.keh-berlin.de
DTSTAMP:20251118T133933Z
DTSTART:20261118T163000Z
DTEND:20261118T180000Z
END:VEVENT
END:VCALENDAR