BEGIN:VCALENDAR
VERSION:2.0
PRODID:https://github.com/derhansen/sf_event_mgt
METHOD:PUBLISH
BEGIN:VEVENT
UID:458-24@www.keh-berlin.de
CLASS: PUBLIC
SUMMARY:Berlin-Brandenburger Epilepsie-Kolloquium (10/2026)
DESCRIPTION:Stellenwert der Benzodiazepine im therapeutischen ManagementVor
 trag von Catrin MannEpilepsiezentrum Rhein-Main – Universitätsmedizin Frank
 furt\n\nDie Veranstaltung ist durch die Ärztekammer Berlin mit 2 Fortbildun
 gspunkten und durch die Deutsche Gesellschaft für Epileptologie mit 1 Punkt
  zertifiziert.\n\nWissenschaftliche Leitung und OrganisationProf. Dr. Marti
 n HoltkampProf. Dr. Bettina SchmitzProf. Dr. Hans-Beatus Straub\n\nEinladun
 g und Programm\n\nWeitere Informationen zur Veranstaltung finden Sie unter 
 www.keh-berlin.de
DTSTAMP:20251118T131547Z
DTSTART:20261014T153000Z
DTEND:20261014T170000Z
END:VEVENT
END:VCALENDAR